BEGIN:VCALENDAR
VERSION:2.0
PRODID:-//Mișcarea Sinergistă România - ECPv6.8.1//NONSGML v1.0//EN
CALSCALE:GREGORIAN
METHOD:PUBLISH
X-WR-CALNAME:Mișcarea Sinergistă România
X-ORIGINAL-URL:https://miscarea-sinergista.ro
X-WR-CALDESC:Events for Mișcarea Sinergistă România
REFRESH-INTERVAL;VALUE=DURATION:PT1H
X-Robots-Tag:noindex
X-PUBLISHED-TTL:PT1H
BEGIN:VTIMEZONE
TZID:UTC
BEGIN:STANDARD
TZOFFSETFROM:+0000
TZOFFSETTO:+0000
TZNAME:UTC
DTSTART:20200101T000000
END:STANDARD
END:VTIMEZONE
BEGIN:VEVENT
DTSTART;TZID=UTC:20200919T170000
DTEND;TZID=UTC:20200919T200000
DTSTAMP:20260426T060712
CREATED:20200910T102307Z
LAST-MODIFIED:20200911T040117Z
UID:1981-1600534800-1600545600@miscarea-sinergista.ro
SUMMARY:ÎNTÂLNIRE A CANDIDAȚILOR PENTRU FUNCȚIA DE PRIMAR SÂNMIHAIU ROMÂN
DESCRIPTION:Asociația Mișcarea Sinergistă\, ONG înființat în anul 2018 conform OUG 26/2000 și a legislației în vigoare\, organizează o dezbatere la care au fost invitați toți candidații la poziția de primar al localității Sânmihaiu Român. Evenimentul îl organizăm în data de 19.09.2020\, începând cu ora 17.00\, la Căminul Cultural din localitate. \nScopul întâlnirii îl reprezintă prezentarea ofertei electorale pentru poziția de primar al comunei Sânmihaiu Român\, a proiectelor și planurilor candidaților pentru mandatul 2020-2024\, pentru creșterea prezenței la vot și alegerea informată a cetățenilor a viitorului primar al localității. \nDeoarece întâlnirea va avea loc în condițiile existenței pericolului pandemiei de COVID-19\, vom limita numărul de participanți sub 50\, dar vom transmite live întâlnirea pe pagina noastră de facebook\, https://www.facebook.com/MiscareaSinergista si vom înregistra video și audio. \nFormatul întâlnirii\, întrebările pe care le vom adresa candidaților\, numărul de participanți și regulile minimale ce trebuie respectate pe toată perioada evenimentului le găsiți în fișierele alăturate prezentului email\, împreună cu invitația în formă grafică și afișul evenimentului. \nVezi agenda eveniment \nVezi intrebari \n     
URL:https://miscarea-sinergista.ro/eveniment/intalnire-a-candidatilor-pentru-functia-de-primar-sanmihaiu-roman/
LOCATION:Caminul Cultural Sanmihaiu Roman\, Caminul Cultural Sanmihaiu Roman\, Sanmihaiu Roman\, Timis\, România
CATEGORIES:Evenimente CONFIRM
ATTACH;FMTTYPE=image/jpeg:https://miscarea-sinergista.ro/wp-content/uploads/2020/09/afis-eveniment-scaled.jpg
ORGANIZER;CN="Asociatia Miscarea Sinergista":MAILTO:info@miscarea-sinergista.ro
END:VEVENT
END:VCALENDAR